BEGIN:VCALENDAR
VERSION:2.0
PRODID:-//wp-events-plugin.com//7.2.3//EN
TZID:Asia/Makassar
X-WR-TIMEZONE:Asia/Makassar
BEGIN:VEVENT
UID:8@hmfisio.bemfkunud.com
DTSTART;TZID=Asia/Makassar:20251012T000000
DTEND;TZID=Asia/Makassar:20251019T000000
DTSTAMP:20251017T070855Z
URL:https://hmfisio.bemfkunud.com/events/webinar-nasional/
SUMMARY:Webinar Nasional
DESCRIPTION:
END:VEVENT
BEGIN:VTIMEZONE
TZID:Asia/Makassar
X-LIC-LOCATION:Asia/Makassar
BEGIN:STANDARD
DTSTART:20241012T000000
TZOFFSETFROM:+0800
TZOFFSETTO:+0800
TZNAME:WITA
END:STANDARD
END:VTIMEZONE
END:VCALENDAR